BEGIN:VCALENDAR
VERSION:2.0
PRODID:-//An invitation to Work with Spirit - ECPv6.15.20//NONSGML v1.0//EN
CALSCALE:GREGORIAN
METHOD:PUBLISH
X-WR-CALNAME:An invitation to Work with Spirit
X-ORIGINAL-URL:https://suzannegibsonfoy.uk
X-WR-CALDESC:Events for An invitation to Work with Spirit
REFRESH-INTERVAL;VALUE=DURATION:PT1H
X-Robots-Tag:noindex
X-PUBLISHED-TTL:PT1H
BEGIN:VTIMEZONE
TZID:UTC
BEGIN:STANDARD
TZOFFSETFROM:+0000
TZOFFSETTO:+0000
TZNAME:UTC
DTSTART:20250101T000000
END:STANDARD
END:VTIMEZONE
BEGIN:VEVENT
DTSTART;VALUE=DATE:20260418
DTEND;VALUE=DATE:20260426
DTSTAMP:20260419T150630
CREATED:20250527T204845Z
LAST-MODIFIED:20250527T204845Z
UID:16615-1776470400-1777161599@suzannegibsonfoy.uk
SUMMARY:Trance: A Beautiful Blending (Course 16a 2026)
DESCRIPTION:Course 16a 2026\n(18 Apr – 25 Apr 2026) \nTrance: A Beautiful Blending\nThere is much to be gained from the development of the trance states. It is an invitation to come into a closer union and relationship with those who work with you from the spirit world\, your spirit team. To further a relationship which is ineffable in nature and both personal and intimate. The spirit world comes to blend with us through the power of love to touch and ignite our hearts\, to inspire\, to inform\, to uplift and to offer healing. \nThat which unfolds from this relationship is done in service to mankind as well as to the self. It may develop into any of the facets of trance mediumship including healing\, speaking philosophy or teachings\, guidance and wisdom\, evidential communication and others. The more opportunity that we provide for our spirit team to work with us in the altered states\, the more refined our energy becomes which benefits all aspects of mediumship and the more potential there is for inner personal development. \nWhether you are being called to explore the trance states for the first time or if you wish to further unfold your potential and come into a better blending\, join us. \nOn this course\, we will cover: \n\nHow to quieten the mind\nBlending with your spirit team\nAwareness and sensing of the spirit world\nLearning to surrender\nTrance healing\nThe many aspects of trance speaking\nTrance demonstrations\nInspired talks\n\nJoin Suzanne and her team\, who will provide a supportive and conducive environment for you to unfold and uncover that potential within you. \n\n\n\n\nCOURSE ORGANISER\nSuzanne Gibson-Foy\, Minister\n\nCOURSE TYPE\nTrance\n\nABILITY\nMixed Level\n\n\n\nCOURSE TUTORS\n\nSuzanne Gibson-Foy\, Minister\nEileen Davies L.S.S.N.U\nAndrej Djordjevitch DSNU\n\n\n\n\n\nDETAILS\n\nNumber of Nights: 7\n\nArrive\nafter 3 pm for 5 pm\n\nStart \non Saturday 18th April 2026\n\nDepart \nafter breakfast on Saturday 25th April 2026\n\nPrices are per person and based on Shared Basic Accommodation \nPrice: £760.00
URL:https://suzannegibsonfoy.uk/event/trance-a-beautiful-blending-course-16a-2026/
LOCATION:The Arthur Findlay College
END:VEVENT
BEGIN:VEVENT
DTSTART;VALUE=DATE:20260523
DTEND;VALUE=DATE:20260531
DTSTAMP:20260419T150630
CREATED:20250527T205116Z
LAST-MODIFIED:20250527T205116Z
UID:16617-1779494400-1780185599@suzannegibsonfoy.uk
SUMMARY:Innovative Approaches to Trance Healing (Course 21b 2026)
DESCRIPTION:Course 21b 2026\n(23 May – 30 May 2026) \nInnovative Approaches to Trance Healing\nThis Innovative Trance Healing Course offers a unique and advanced opportunity to deepen your Trance Healing practice\, integrating traditional methods with innovative ideas. Here’s an overview of what you can expect: \nCourse Highlights: \n\nBuilding on Traditional Trance Healing Techniques: The course offers a solid foundation in Trance Healing while also experimenting with new and progressive ideas.\nExploration of Consciousness: You will delve into various levels of consciousness involved in Trance Healing\, exploring how different states can enhance the healing process. This is a key area of growth and self-discovery.\nInnovative Approaches: The course promises a week filled with fresh perspectives on Trance Healing. You’ll have the chance to experiment with new techniques.\nUnderstanding Your Unique Connection with the Spirit World: The course encourages you to develop a deeper awareness of your personal connection with the Spirit World and the Healing Intelligence that guides you. You’ll be supported in discovering your own unique healing style.\nSelf-Growth and Personal Understanding: A central part of the course is focusing on your personal growth\, including understanding how you interact with the Spirit World. This awareness is crucial for your development as a Trance Healer.\nSupport from Expert Tutors and the Spirit World: A team of experienced tutors will guide you\, along with the teachers from the Spirit World who will offer support throughout your development.\nEnhancing Your Healing Abilities: Whether you’re new to Trance Healing or already practice a form of healing\, expanding into the Trance State will elevate and transform your healing experiences\, making this course valuable for anyone interested in healing modalities.\n\nWhy This Course Is for You: \n\nIf you’re seeking to deepen your understanding of Trance Healing\, this course will provide you with the tools and support to evolve your practice.\nYour uniqueness as a healer will be embraced and celebrated\, helping you strengthen your individual Trance Healing abilities.\nThe guidance from both skilled tutors and teachers from the Sprit World will ensure you’re supported on your journey of self-discovery and spiritual growth.\n\nIf you’re interested in advancing your healing practice and wish to expand into new realms of consciousness\, this course will provide you with the skills and insight to do so\, all while fostering personal and spiritual development. \n\n\n\n\nCOURSE ORGANISER\nAndrej Djordjevitch DSNU\n\nCOURSE TYPE\nTrance Healing\n\nABILITY\nMixed Level\n\n\n\nCOURSE TUTORS\n\nAndrej Djordjevitch DSNU\nLynn Parker\, Minister\nSuzanne Gibson-Foy\, Minister\n\n\n\n\n\nDETAILS\n\nNumber of Nights: 7\n\nArrive\nafter 3 pm for 5 pm\n\nStart \non Saturday 23rd May 2026\n\nDepart \nafter breakfast on Saturday 30th May 2026\n\nPrices are per person and based on Shared Basic Accommodation \nPrice: £760.00
URL:https://suzannegibsonfoy.uk/event/innovative-approaches-to-trance-healing-course-21b-2026/
LOCATION:The Arthur Findlay College
END:VEVENT
BEGIN:VEVENT
DTSTART;VALUE=DATE:20260829
DTEND;VALUE=DATE:20260906
DTSTAMP:20260419T150630
CREATED:20250527T205408Z
LAST-MODIFIED:20250527T205408Z
UID:16619-1787961600-1788652799@suzannegibsonfoy.uk
SUMMARY:Mediumship\, Aspiring to Excellence (Course 35 2026)
DESCRIPTION:Course 35 2026\n(29 Aug – 05 Sep 2026) \nMediumship\, Aspiring to Excellence\nReal mediumship is the grace of true communion with ourselves\, the world around us\, and the spirit. It is to awaken to the divine mystery and miracle of life and remember who we really are as spiritual beings of limitless potential. To find our way home to ourselves means to recognise our eternal nature and realise we can never be separate from spirit. Communication cannot be manufactured\, for it is natural a ‘state of the soul’ an act of love. \nAn invitation awaits you to explore the very depth and breadth of your mediumistic nature in a manner that encourages the natural expression of mediumship. Realising that each person responds to\, and is influenced by\, the spirit in a unique way and it is in the understanding and recognition of this\, that excellence can be achieved. \nHave you a desire to go beyond self-imposed boundaries\, so often created by a need to be safe\, within areas of mediumistic expression\, to be able to discover your true potential? \nDo you feel inspired by the standards of our pioneers whose mediumship shone with a light of integrity and excellence? \nHave you ever felt there is something more or greater to which you aspire? \nIs cultivating a spiritual attitude as important as developing your mediumistic powers of awareness? \nThen why not join Eileen and her dedicated team to help you rediscover your mediumship in a transformative way\, that enables you to truly trust and experience your soul’s potential. Where the emphasis and focus are on the needs of the individual and how best to facilitate a stronger connection with the spirit world\, to achieve excellence in a natural way. \nDuring the course you will have the opportunity to; \n*Explore\, how to convey deeper levels of communication\, which convey emotional significance. \n*Learn how to form new patterns within your mediumship\, enabling greater potential for growth. \n*Discover how the ‘grace of letting go’ enables trance states to be experienced. \n*Try different spiritual practices to enhance a greater sense of well-being. \n*Explore seership and prophecy and look at its relevance and accuracy in relation to mediumship. \nThe course will be packed with informative lectures\, workshops\, specialist groups and an opportunity to put all you have learned into practice with student demonstrations. All designed with your needs in mind. After all it will be you shaping the future of Spiritualism. Raising the standards of tomorrow\, begins by aspiring to excellence today. \n\n\n\n\nCOURSE ORGANISER\nEileen Davies L.S.S.N.U\n\nCOURSE TYPE\nMediumship\n\nABILITY\nIntermediate/Advanced Level\n\n\n\nCOURSE TUTORS\n\nEileen Davies L.S.S.N.U\nSuzanne Gibson-Foy\, Minister\nLynn Parker\, Minister\nIrene McGilvray\, Minister\nChristine Morgan CSNU\n\n\n\n\n\nDETAILS\n\nNumber of Nights: 7\n\nArrive\nafter 3 pm for 5 pm\n\nStart \non Saturday 29th August 2026\n\nDepart \nafter breakfast on Saturday 5th September 2026\n\nPrices are per person and based on Shared Basic Accommodation \nPrice: £760.00\nCourse Supplement £10.00
URL:https://suzannegibsonfoy.uk/event/mediumship-aspiring-to-excellence-course-35-2026/
LOCATION:The Arthur Findlay College
END:VEVENT
BEGIN:VEVENT
DTSTART;VALUE=DATE:20261017
DTEND;VALUE=DATE:20261025
DTSTAMP:20260419T150630
CREATED:20250527T205651Z
LAST-MODIFIED:20250527T205651Z
UID:16621-1792195200-1792886399@suzannegibsonfoy.uk
SUMMARY:Semaine Francaise 3 (French Week 3 - Course 42 2026)
DESCRIPTION:Course 42 2026\n(17 Oct – 24 Oct 2026) \nSemaine Francaise 3\nL’Arthur Findlay Collège\, situé dans le magnifique Stansted Hall entouré d’un parc idyllique\, offre la bienvenue aux étudiants en médiumnité francophones. Les cours s’adressent à tous les niveaux : débutants\, intermédiaires et avancés. Une vaste palette de sujets seront traités\, tels que la médiumnité mentale\, la conscience\, la transe et les états de conscience modifiés\, la guérison\, le rôle de l’esprit et plus encore. \nLes journées seront organisées autour de méditations\, de conférences\, de sessions de groupe et de démonstrations de médiumnité. Des séances privées avec les enseignants seront également proposées. Vous apprendrez à discerner la présence de l’esprit et à travailler avec cette magnifique puissance qui nous montre que la vie est immortelle et que l’amour comble le vide laissé par la mort. \nLa médiumnité est sacrée et devrait être traitée avec respect et révérence. Elle amène la guérison à tous ceux qui l’approchent en changeant la vision de leur vie. Cela marquera le début de la croissance de votre âme et renforcera votre relation avec le divin. \nCette semaine vous apportera une étonnante nouvelle vision et beaucoup de nouveaux amis. Si vous pensez que c’est la voie que vous recherchez\, rejoignez l’équipe expérimentée pour une semaine de travail acharné mais pleine de plaisir. \n  \n\nFrench Week 3\nThe Arthur Findlay College\, situated at beautiful and elegant Stansted Hall and surrounded by idyllic grounds\, welcomes all French-speaking students of mediumship. We cater for all levels: beginners\, intermediate and advanced. We offer a wide range of subjects including mental mediumship\, awareness\, trance and altered states\, healing\, the role of the mind and much more. \nThe week will be full of meditations\, lectures\, group sessions and demonstrations of mediumship and you can book a private sitting with a tutor. You will learn to discern the presence of spirit and work with that wonderful power that shows us that life is immortal\, and that love bridges the gap of death. \nMediumship is sacred and should be treated with reverence and with respect. It will bring healing to all those involved\, and it will ultimately change your outlook on life. This marks the beginning of your soul growth and it will strengthen your relationship with the Divine. \nThis week will bring you amazing new insights and lots of new friends. If you feel that this is what you are seeking\, then come and join the expert team for a week of hard work and plenty of fun. \n  \n\n\n\n\nCOURSE ORGANISER\nAndrej Djordjevitch DSNU\n\nCOURSE TYPE\nOverseas\n\nABILITY\nMixed Level\n\n\n\nCOURSE TUTORS\n\nAndrej Djordjevitch DSNU\nSuzanne Gibson-Foy\, Minister\nLynn Parker\, Minister\nMaureen Murnan CSNU\nPenny Hayward OSNU\nDonna Barker DSNU\n\n\n\n\n\nDETAILS\n\nNumber of Nights: 7\n\nArrive\nafter 3 pm for 5 pm\n\nStart \non Saturday 17th October 2026\n\nDepart \nafter breakfast on Saturday 24th October 2026\n\nPrices are per person and based on Shared Basic Accommodation \nPrice: £760.00\nCourse Supplement £145.00
URL:https://suzannegibsonfoy.uk/event/semaine-francaise-3-french-week-3-course-42-2026/
LOCATION:The Arthur Findlay College
END:VEVENT
BEGIN:VEVENT
DTSTART;VALUE=DATE:20261031
DTEND;VALUE=DATE:20261108
DTSTAMP:20260419T150630
CREATED:20250527T205901Z
LAST-MODIFIED:20250527T205901Z
UID:16623-1793404800-1794095999@suzannegibsonfoy.uk
SUMMARY:Exploring the World of Trance (Course 44a 2026)
DESCRIPTION:Course 44a 2026\n(31 Oct – 07 Nov 2026) \nExploring the World of Trance\nExploring the World of Trance with Andrej and his team offers an exciting opportunity to explore the deep and transformative realm of Trance Mediumship. Whether you’re a beginner or an experienced Trance Medium\, this course provides the perfect setting to expand and refine your abilities. Here’s a breakdown of what you can expect: \nCourse Overview: \n\nA Voyage of Discovery: This week-long experience is a journey into the dimensions of Trance\, where you’ll explore how to interact with your Spirit Team and unlock the potential of that connection.\nSuitable for All Levels: This course is perfect for those new to Trance Mediumship as well as seasoned practitioners seeking to deepen their existing practice.\nUnderstanding and Developing the Trance State: You’ll explore different forms of the Trance State to discover which resonates most with you and your unique connection to the Spirit World.\n\nKey Learning Areas: \n\nTrance Healing: Learn to fully surrender to the Healing Intelligence\, allowing the Healing Energy to flow through you without interference.\nTrance Speaking: In this area\, you will learn to let the Spirit World’s intelligence speak through you\, allowing the message to flow without the constraints of your usual human thought processes or ideas.\nTrance Communication: Explore how to connect at a deeper level with the Spirit World\, facilitating communication with discarnate Spirit.\n\nCourse Focus: \n\nExperimentation and Exploration: This week is all about experimentation. You’ll be encouraged to try different techniques to deepen your connection with the Spirit World.\nEmbracing Your Uniqueness: Your individuality as a Trance Medium is seen as a strength\, not a weakness. This will be encouraged by expert tutors and teachers from the Spirit World.\nDeepening the Link: This is an ideal time to deepen your existing connection with the Spirit World and learn how to work in harmony with your Spirit Team to amplify your abilities.\n\nWhy You Should Join: \n\nPersonal and Spiritual Growth: Whether you’re new to Trance or already practicing\, this course offers you the chance to deepen your connection with the Spirit World\, explore new techniques\, and expand your Trance Mediumship abilities.\nExpert Guidance: You’ll receive support from a team of experienced tutors and teachers from the Spirit World who will assist you throughout the process\, helping you unlock your true potential.\nA Unique and Transformative Experience: This is a rare opportunity to embark on a deep and meaningful journey into the world of Trance Mediumship\, where you will learn\, grow\, and connect with both your Spirit Team and the wonderful energies of the Spirit World.\n\nIf you are looking to expand your Trance Mediumship practice or are curious to explore this fascinating realm\, this week promises to be a transformative and enlightening experience. \n\n\n\n\nCOURSE ORGANISER\nAndrej Djordjevitch DSNU\n\nCOURSE TYPE\nTrance\n\nABILITY\nMixed Level\n\n\n\nCOURSE TUTORS\n\nAndrej Djordjevitch DSNU\nSuzanne Gibson-Foy\, Minister\nLynn Parker\, Minister\n\n\n\n\n\nDETAILS\n\nNumber of Nights: 7\n\nArrive\nafter 3 pm for 5 pm\n\nStart \non Saturday 31st October 2026\n\nDepart \nafter breakfast on Saturday 7th November 2026\n\nPrices are per person and based on Shared Basic Accommodation \nPrice: £760.00
URL:https://suzannegibsonfoy.uk/event/exploring-the-world-of-trance-course-44a-2026/
LOCATION:The Arthur Findlay College
END:VEVENT
END:VCALENDAR